BEGIN:VCALENDAR
VERSION:2.0
PRODID:gcfv.georgia.gov
X-WR-TIMEZONE:America/New_York
BEGIN:VTIMEZONE
TZID:America/New_York
X-LIC-LOCATION:America/New_York
END:VTIMEZONE
BEGIN:VEVENT
UID:60a00c6f6ddde
DTSTART;TZID=UTC:20191204T140000
SEQUENCE:0
TRANSP:OPAQUE
DTEND;TZID=UTC:20191204T210000
URL:https://gcfv.georgia.gov/events/2019-12-04/primary-does-not-mean-first-
 identifying-primary-physical-aggressor-family-0
LOCATION:Morgan County Sheriff's Office 1380 Monticello Road MADISON\, GA 3
 0650
SUMMARY:Primary Does Not Mean First: Identifying the Primary Physical Aggre
 ssor in Family Violence Incidents
CLASS:PUBLIC
DESCRIPTION:This training is approved for 6 POST hours for Law Enforcement.
  It is not approved for FVIP CE hours. \n\nThis training is free and open
  to all law enforcement agencies and disciplines. \n\nTrainers Mike Mertz
  and Jenny Aszman\n\nPlease call 404-232-1830 with any questions. Registe
 r
DTSTAMP:20210515T140119Z
END:VEVENT
END:VCALENDAR