BEGIN:VCALENDAR
VERSION:2.0
PRODID:gcfv.georgia.gov
X-WR-TIMEZONE:America/New_York
BEGIN:VTIMEZONE
TZID:America/New_York
X-LIC-LOCATION:America/New_York
END:VTIMEZONE
BEGIN:VEVENT
UID:60a06dd56830b
DTSTART;TZID=UTC:20190917T220000
SEQUENCE:0
TRANSP:OPAQUE
DTEND;TZID=UTC:20190918T003000
URL:https://gcfv.georgia.gov/events/2019-09-17/getting-know-your-justice-sy
 stem-conviction-stands-now-what
LOCATION:75 Langley Drive LAWRENCEVILLE\, GA
SUMMARY:Getting To Know Your Justice System: The conviction stands\, now wh
 at?
CLASS:PUBLIC
DESCRIPTION:This training has been approved by the Commission for 2 FVIP 
 CE hours\n\nCost: $10\n\nRegister: https://www.eventbrite.com/e/getting-t
 o-know-your-justice-system-series-tickets-64684555246
DTSTAMP:20210515T205653Z
END:VEVENT
END:VCALENDAR