BEGIN:VCALENDAR
PRODID:gcfv.georgia.gov
VERSION:2.0
CALSCALE:GREGORIAN
BEGIN:VEVENT
UID:cab14e2925223bb31bffe27efb244ed8
DTSTAMP:20260424T234755Z
SUMMARY:Understanding the Rage and Lethality of Men Who Strangle Webinar
DESCRIPTION:In this webinar\, the leading experts in the field will discuss
  for the first time\,  the connection between ACEs\, rage and stranglers\
 , the need to develop new strategies in the treatment and supervision of m
 en who strangle their intimate partners and provide an overview of Hope Th
 eory. The panelists will include leading experts in the field including o
 ur President and Co-Founder Casey Gwinn\, J.D. \,  James Henderson\, M.
 S.W. \, David Wexler\, PhD \, and Oliver Williams PhD. \n\n\n\nObjectives
 :\n\n 1) Increase understanding of why strangulation and suffocation offe
 nses must be treated as serious felonies\n\n 2) Improve the court's handl
 ing of non-fatal strangulation at every stage\;\n\n 3) Increase awareness
  about the dangerousness of stranglers in order to promote victim safety\n
 \n4) Increase understanding about the science of hope\n\nHere is the link 
 to registration:\n\nhttps://attendee.gotowebinar.com/register/327136993644
 371469\n\nThis webinar is approved for 1.5 FVIP CEs. You must attend the 
 live version for credit.
URL:https://gcfv.georgia.gov/events/2019-07-02/understanding-rage-and-letha
 lity-men-who-strangle-webinar
DTSTART;VALUE=DATE:20190702
DTEND;VALUE=DATE:20190703
X-LIC-LOCATION:America/New_York
X-WR-TIMEZONE:America/New_York
END:VEVENT
BEGIN:VTIMEZONE
TZID:America/New_York
END:VTIMEZONE
END:VCALENDAR
