BEGIN:VCALENDAR
VERSION:2.0
PRODID:gcfv.georgia.gov
X-WR-TIMEZONE:America/New_York
BEGIN:VTIMEZONE
TZID:America/New_York
X-LIC-LOCATION:America/New_York
END:VTIMEZONE
BEGIN:VEVENT
UID:60a06dd0392af
DTSTART;TZID=UTC:20190925T133000
SEQUENCE:0
TRANSP:OPAQUE
DTEND;TZID=UTC:20190925T210000
URL:https://gcfv.georgia.gov/events/2019-09-25/advanced-facilitation-and-gr
 oup-management-skills
LOCATION:19 Tucker Ave DAWSONVILLE\, GA 30534
SUMMARY:Advanced Facilitation and Group Management Skills
CLASS:PUBLIC
DESCRIPTION:Register\n\nFamily Violence Intervention Programs face unique f
 acilitation challenges. These challenges potentially deter from the educat
 ional benefit of class and derail the accountability process. Ensuring acc
 ountability within class requires balancing support for men and doing our 
 best to ensure victim safety. Often men enter our classes with uncertainty
  and sometimes outright resistance. Some of these men may attempt to sabot
 age or manipulate the class structure. In this one day training\, Men Stop
 ping Violence will introduce facilitation and group management skills prov
 en to address facilitation challenges\, develop a productive class culture
 \, and model conflict resolution skills to class participants. \n\nCEUs: 
 This training has been approved by the Commission for 6 FVIP CE hours. 
 Registration: Seating is limited. Priority will be given to certified FVI
 P facilitators in Georgia and FVIP facilitators in training in Georgia. Re
 gistration will not be complete until we receive a check from you in the c
 orrect amount owed ($25 for certified facilitators and facilitators in tr
 aining\, $50 for all others). We will not deposit the check unless your se
 at is secured. We will email you to confirm your registration upon receipt
  of your check.
DTSTAMP:20210515T205648Z
END:VEVENT
END:VCALENDAR