BEGIN:VCALENDAR
PRODID:gcfv.georgia.gov
VERSION:2.0
CALSCALE:GREGORIAN
BEGIN:VEVENT
UID:f1c792bb70654779a35cbc2e4f270b0f
DTSTAMP:20260425T001004Z
SUMMARY:Men at Work: Building Safe Communities Training (MSV)
DESCRIPTION:Men At Work is an innovative and multi-disciplinary curriculum 
 that: explores male violence against women in an accessible manner\, chall
 enges men to take responsibility for their actions\, and provides the educ
 ational experience necessary to become allies in ending violence against w
 omen. In this three-day training\, MSV will provide participants with the 
 knowledge and tools needed to implement Men At Work.\n\nLearning Objective
 s:\n\n1) Summarize the components of the Men Stopping Violence Community A
 ccountability Model. \n\n2) Describe the requirements of\, and rationale 
 behind\, enrollment\, participation\, and completion of the Men At Work Pr
 ogram.\n\n3) Describe the structure and layout of the Men at Work curricul
 um.\n\n4) Describe and implement the structure\, process\, and lessons of 
 the Men at Work class.\n\n5) Identify and address key facilitation issues 
 in teaching the Men at Work curriculum.\n\n\n\nApproved by the Commission 
 for 20 FVIP Hours\n\n\n\nJune 12th  9 am - 5pm\n\nJune 13th  10 am - 8:3
 0 pm\n\nJune 14th 10 am - 6:30 pm\n\nFor more information contact:\n\nLee 
 Giordano\, Director of Training\, Men Stopping Violence\n\nEmail: lee@men
 stoppingviolence.org\n\nPhone: 404-270-9894\, ext. 20\n\nhttp://www.mensto
 ppingviolence.org
URL:https://gcfv.georgia.gov/events/2019-06-12/men-work-building-safe-commu
 nities-training-msv
DTSTART;VALUE=DATE:20190612
DTEND;VALUE=DATE:20190615
LOCATION:Men Stopping Violence 2785 Lawrenceville Hwy Suite 112  Decatur\, 
 GA 30318 US
X-LIC-LOCATION:America/New_York
X-WR-TIMEZONE:America/New_York
END:VEVENT
BEGIN:VTIMEZONE
TZID:America/New_York
END:VTIMEZONE
END:VCALENDAR
