BEGIN:VCALENDAR
PRODID:gcfv.georgia.gov
VERSION:2.0
CALSCALE:GREGORIAN
BEGIN:VEVENT
UID:afee95dc0f491bc1d4d821242da988c9
DTSTAMP:20260425T000359Z
SUMMARY:Examining Domestic Violence & Sexual Assault in the African America
 n Community Conference
DESCRIPTION:This event is free.\n\nKeynote: Tony Porter\n\nSpeakers: LaWand
 a Swan\, Lavon Morris-Grant\, Sumayya ColemanContact: 404-916-3796\n\nRegi
 ster: www.macosh.org/events\n\nThis conference has been approved by the 
 Georgia Commission on Family Violence for 6 FVIP hours.
URL:https://gcfv.georgia.gov/events/2019-03-27/examining-domestic-violence-
 sexual-assault-african-american-community-conference
DTSTART;VALUE=DATE:20190327
DTEND;VALUE=DATE:20190328
LOCATION:Georgia International Convention Center 2000 Convention Center  Co
 llege Park\, GA US
X-LIC-LOCATION:America/New_York
X-WR-TIMEZONE:America/New_York
END:VEVENT
BEGIN:VTIMEZONE
TZID:America/New_York
END:VTIMEZONE
END:VCALENDAR
