BEGIN:VCALENDAR
PRODID:gcfv.georgia.gov
VERSION:2.0
CALSCALE:GREGORIAN
BEGIN:VEVENT
UID:fd7746e38f1007cc4d8b2733b3e9218a
DTSTAMP:20260424T235828Z
SUMMARY:Understanding Strangulation and Those Who Use it as a Control Tacti
 c Webinar
DESCRIPTION:Join Gael Strack\, CEO and Co-Founder of Alliance for Hope Inte
 rnational in San Diego\, California in understanding strangulation in dome
 stic violence cases – what it is and what is can tell us about the indiv
 iduals who use it as a control tactic. We will look in particular at how B
 IPP facilitators can use this information to assess for lethality\, hold a
 busers accountable\, and keep survivors safe. \n\nThis webinar is sponsor
 ed by Texas Council on Family Violence and is approved for 1.5 FVIP CEs. Y
 ou must attend the live version for credit. Cost: $15Level: Intermediate\
 n\nMore information
URL:https://gcfv.georgia.gov/events/2019-06-18/understanding-strangulation-
 and-those-who-use-it-control-tactic-webinar
DTSTART;VALUE=DATE:20190618
DTEND;VALUE=DATE:20190619
X-LIC-LOCATION:America/New_York
X-WR-TIMEZONE:America/New_York
END:VEVENT
BEGIN:VTIMEZONE
TZID:America/New_York
END:VTIMEZONE
END:VCALENDAR
