BEGIN:VCALENDAR
PRODID:gcfv.georgia.gov
VERSION:2.0
CALSCALE:GREGORIAN
BEGIN:VEVENT
UID:ddd58ed1113ecb7953d65fb288bec7be
DTSTAMP:20260424T232059Z
SUMMARY:A Culturally Competent Approach to Working with LGBT+ DV Offenders 
 Webinar
DESCRIPTION:Join Ben Meneses from Dallas’ The Family Place in exploring a
 nd highlighting certain issues specific to working with domestic violence 
 offenders in the LGBT+ community. We will discuss what cultural norms we n
 eed to be aware of\, look at the jargon used by the community\, and explor
 e what philosophical approach we should take when working with this popula
 tion.\n\nThis webinar is sponsored by Texas Council on Family Violence and
  is approved for 1.5 FVIP CEs. You must attend the live version for credit
 . \n\nCost: $15 Level: Intermediate\n\nMore information
URL:https://gcfv.georgia.gov/events/2019-04-18/culturally-competent-approac
 h-working-lgbt-dv-offenders-webinar
DTSTART;VALUE=DATE:20190418
DTEND;VALUE=DATE:20190419
X-LIC-LOCATION:America/New_York
X-WR-TIMEZONE:America/New_York
END:VEVENT
BEGIN:VTIMEZONE
TZID:America/New_York
END:VTIMEZONE
END:VCALENDAR
