BEGIN:VCALENDAR
PRODID:gcfv.georgia.gov
VERSION:2.0
CALSCALE:GREGORIAN
BEGIN:VEVENT
UID:fdf103c5fc0883e0e1a6df7533fa68e9
DTSTAMP:20260424T235456Z
SUMMARY:Balancing Accountability and Engagement Through Enhanced Communicat
 ion in FVIPs
DESCRIPTION:Register\n\nIn our efforts to hold participants accountable as 
 facilitators\, we may unintentionally alienate individuals and inhibit the
  process of change. However\, we may also run the risk of colluding with p
 articipants in our efforts to keep them engaged and participating in the p
 rocess. In this training\, we will explore ways to establish an environmen
 t that allows the facilitator to hold participants accountable and avoid c
 ollusion while encouraging men to learn\, grow\, be vulnerable and explore
  their own humanity. We will also focus on the socialization of men\, its 
 role in creating a culture of violence\, and ways men can take responsibil
 ity for their abusive behaviors while also identifying and rejecting ways 
 socialization has served to separate men from their humanity. \n\nCEUs: T
 his training has been approved by the Commission for 6 FVIP CE hours. R
 egistration: Seating is limited. Registration will not be complete until 
 we receive a check from you in the correct amount owed ($25 for Georgia f
 acilitators and facilitators in training\, $50 for all others). We will no
 t deposit the check unless your seat is secured. We will email you to conf
 irm your registration upon receipt of your check.\n\nPlease note if you ar
 e more than 15 minutes late you will not be admitted to the training. If y
 ou miss more than 15 minutes of the training\, we will not be able to issu
 e a certificate of completion and you will not receive CEU credit.
URL:https://gcfv.georgia.gov/events/2019-06-27/balancing-accountability-and
 -engagement-through-enhanced-communication-fvips
DTSTART;VALUE=DATE:20190627
DTEND;VALUE=DATE:20190628
LOCATION:​Morgan County Sheriff's Office ​1380 Monticello Road  Madison
 \, GA 30650 US
X-LIC-LOCATION:America/New_York
X-WR-TIMEZONE:America/New_York
END:VEVENT
BEGIN:VTIMEZONE
TZID:America/New_York
END:VTIMEZONE
END:VCALENDAR
