BEGIN:VCALENDAR
PRODID:gcfv.georgia.gov
VERSION:2.0
CALSCALE:GREGORIAN
BEGIN:VEVENT
UID:0666f2fddb541d6a437c7f920f18d7f2
DTSTAMP:20260424T234755Z
SUMMARY:Stalking & Domestic Violence: Making the Connection
DESCRIPTION:This multidisciplinary training is designed to enhance the abil
 ity of law enforcement\, advocates\, prosecutors\, and other professionals
  to recognize and effectively respond to stalking. \n\nThis training has 
 been approved by the Georgia Commission on Family Violence for 6 FVIP ho
 urs.\n\nPlease register: https://www.eventbrite.com/o/western-circuit-dom
 estic-violence-taskforce-18731277490
URL:https://gcfv.georgia.gov/events/2019-03-20/stalking-domestic-violence-m
 aking-connection
DTSTART;VALUE=DATE:20190320
DTEND;VALUE=DATE:20190321
X-LIC-LOCATION:America/New_York
X-WR-TIMEZONE:America/New_York
END:VEVENT
BEGIN:VTIMEZONE
TZID:America/New_York
END:VTIMEZONE
END:VCALENDAR
