BEGIN:VCALENDAR
VERSION:2.0
PRODID:gcfv.georgia.gov
X-WR-TIMEZONE:America/New_York
BEGIN:VTIMEZONE
TZID:America/New_York
X-LIC-LOCATION:America/New_York
END:VTIMEZONE
BEGIN:VEVENT
UID:60a00c2a14f3d
DTSTART;TZID=UTC:20160126T130000
SEQUENCE:0
TRANSP:OPAQUE
DTEND;TZID=UTC:20160126T170000
URL:https://gcfv.georgia.gov/events/2016-01-26/stalking-training
LOCATION:1 College Street\, Goolsby Center Young Harris College\, Wilson Le
 cture Hall YOUNG HARRIS\, GA 30582
SUMMARY:Stalking Training 
CLASS:PUBLIC
DESCRIPTION:Sponsored by: S.A.F.E\, Young Harris College Psychology Depar
 tment and the Prosecuting Attorneys’ Council of Georgia \n\nInstructor
 :  Betsy Ramsey\, S.A.F.E. Community Resource Coordinator\n\nRSVP:  bram
 sey@safeservices.org or 706 379-1901 Ext. 35\n\nDirections: The Goolsby
  Center is the first building on the left at the main entrance next to Sha
 rp Memorial United Methodist Church.  The Wilson Lecture Hall is on the t
 op floor. Call 1 800 241-3754 if you need more help with directions. \n
 \n\n\nCredits:  POST /CLE (applied for). This training has been approved
  by the Georgia Commission on Family Violence for 4 FVIP hours. \n\nThis 
 training is free. Registration begins 30 minutes prior to the class. 
DTSTAMP:20210515T140010Z
END:VEVENT
END:VCALENDAR