BEGIN:VCALENDAR
PRODID:gcfv.georgia.gov
VERSION:2.0
CALSCALE:GREGORIAN
BEGIN:VEVENT
UID:9353e9d5892b63e9eb6222b88854578f
DTSTAMP:20260424T234756Z
SUMMARY:FVIP Rules Training
DESCRIPTION:All Certified Facilitators are required to attend the Commissio
 n-provided FVIP Rules Training before their next recertification. \n\nCEU
 s: Certified Facilitators will receive credit for attending the required 
 3 hour Commission-provided training on the FVIP Rules. \n\nRegistration:
  Registration is free. However\, due to limited seating\, we request that
  you cancel at least 72 hours before the scheduled training. This gives us
  an opportunity to fill the class. You may cancel by emailing Jenny.Aszma
 n@dcs.ga.gov or calling 404-232-1830. You may not transfer your registrat
 ion to another person without prior approval by GCFV staff. \n\nIf you ar
 e a no-show to the training\, you will be charged $50 to attend the traini
 ng in the future.  \n\nQuestions: Please contact Jenny Aszman at 404-232
 -1830 with any questions. \n\nPlease note if you are more than 15 minutes
  late you will not be admitted to the training. If you miss more than 15 m
 inutes of the training\, we will not be able to issue a certificate of com
 pletion and you will not receive CEU credit.Register
URL:https://gcfv.georgia.gov/events/2019-03-18/fvip-rules-training
DTSTART;VALUE=DATE:20190318
DTEND;VALUE=DATE:20190319
LOCATION:liveSAFE Resources\, Inc.\, Training Conference Room 48 Henderson 
 St SW  Marietta\, GA 30064 US
X-LIC-LOCATION:America/New_York
X-WR-TIMEZONE:America/New_York
END:VEVENT
BEGIN:VTIMEZONE
TZID:America/New_York
END:VTIMEZONE
END:VCALENDAR
