BEGIN:VCALENDAR
PRODID:gcfv.georgia.gov
VERSION:2.0
CALSCALE:GREGORIAN
BEGIN:VEVENT
UID:7ad94b7437852497a6afa97c1c9bcc30
DTSTAMP:20260425T000359Z
SUMMARY:Turning Points: A Nonviolence Curriculum for Women
DESCRIPTION:The Turning Points curriculum was developed by late Ellen Pence
  from Duluth Abuse Intervention Project and Laura Connelly and Melissa Sc
 aia\, M.P.A.\, of Advocates for Family Peace (AFFP). This training is an
  educational program for women who use both legal and illegal violence aga
 inst their partners. Its focus is on helping women understand the connecti
 ons between the violence they experience and the violence they use. \n\nR
 egistration: Seating is limited. Priority will be given to certified FVIP
  facilitators in Georgia and FVIP facilitators in training in Georgia. Reg
 istration will not be complete until we receive a check from you in the co
 rrect amount owed.\n\nCost: The cost for certified facilitators and facili
 tators in training in Georgia is $125. The cost is $250 for all others. \
 n\nCEUS: This training is approved by GCFV for 12 FVIP hours. Curriculum:
  A copy of the curriculum is NOT included with registration. Participants 
 may pre-order the curriculum at a discounted rate of $350. Please mark thi
 s in your registration and GCFV will notify Turning Points of your order. 
 You will be required to bring a check to the training to pay for the curri
 culum. \n\nLodging: A block of rooms is available at Holiday Inn Express 
 Atlanta-Emory University\, a 15 minute drive from the training site. Rat
 es of $141.99/night + tax are available under the code "GA Commission." A
  continental breakfast buffet is included in the reservation. Reservations
  must be made by March 24th\, 2019. Call 800-465-4329. \n\nThis training
  is at capacity. Please join the waiting list. 
URL:https://gcfv.georgia.gov/events/2019-04-15/turning-points-nonviolence-c
 urriculum-women
DTSTART;VALUE=DATE:20190415
DTEND;VALUE=DATE:20190417
LOCATION:Rush Center\, Community Annex 328 Mell Avenue\, Suite B  Atlanta\,
  GA 30307 US
X-LIC-LOCATION:America/New_York
X-WR-TIMEZONE:America/New_York
END:VEVENT
BEGIN:VTIMEZONE
TZID:America/New_York
END:VTIMEZONE
END:VCALENDAR
