BEGIN:VCALENDAR
PRODID:gcfv.georgia.gov
VERSION:2.0
CALSCALE:GREGORIAN
BEGIN:VEVENT
UID:453c14d0af86507bcfc6f84997c706eb
DTSTAMP:20260424T232059Z
SUMMARY:Reducing Resistance of the Batterer in FVIP Programs
DESCRIPTION:Training Topics:\n\nUnderstanding Power & Control\n\nWhat is cl
 ient resistance? What does it look like?\n\nHow do we reduce the resistanc
 e and promote change?\n\nTarget Audience: Probation Officers\, Prosecutors
 \, DFCS Workers\, Victim Advocates\, Judges and FVIP Facilitators\n\nSeati
 ng is limited. Must reserve your seat to attend. \n\nThis training is fre
 e and is approved by the Commission on Family Violence for 3 FVIP hours. 
 \n\nPlease register by March 21\, 2019 by contacting Valeria Wood\, LCSW a
 t 678-425-0975.
URL:https://gcfv.georgia.gov/events/2019-04-04/reducing-resistance-batterer
 -fvip-programs
DTSTART;VALUE=DATE:20190404
DTEND;VALUE=DATE:20190405
LOCATION:329 Resource Parkway  Winder\, GA 30680 US
X-LIC-LOCATION:America/New_York
X-WR-TIMEZONE:America/New_York
END:VEVENT
BEGIN:VTIMEZONE
TZID:America/New_York
END:VTIMEZONE
END:VCALENDAR
