BEGIN:VCALENDAR
VERSION:2.0
PRODID:gcfv.georgia.gov
X-WR-TIMEZONE:America/New_York
BEGIN:VTIMEZONE
TZID:America/New_York
X-LIC-LOCATION:America/New_York
END:VTIMEZONE
BEGIN:VEVENT
UID:60a06ddd65871
DTSTART;TZID=UTC:20190908T190000
SEQUENCE:0
TRANSP:OPAQUE
DTEND;TZID=UTC:20190908T203000
URL:https://gcfv.georgia.gov/events/2019-09-08/quarterly-commission-meeting
LOCATION:The Classic Center 300 N Thomas St ATHENS\, GA
SUMMARY:Quarterly Commission Meeting
CLASS:PUBLIC
DESCRIPTION:Sunday\, September 8\, 2019\n\n3 - 4:30 pm\n\nThe Classic Cente
 r \n\nOlympia Room 1\n\nAthens\, Ga 
DTSTAMP:20210515T205701Z
END:VEVENT
END:VCALENDAR