BEGIN:VCALENDAR
PRODID:gcfv.georgia.gov
VERSION:2.0
CALSCALE:GREGORIAN
BEGIN:VEVENT
UID:7a546220c6861e38f19047fa416234a4
DTSTAMP:20260424T235537Z
SUMMARY:Quarterly Commission Meeting
DESCRIPTION:Please call GCFV for details: 404-657-3412.\n\nFVIP Facilitator
 s and facilitators-in-training will receive 2 hours towards Community Advo
 cacy and Education requirements for attending the entire meeting. FVIP Pro
 viders who attend the entire meeting will meet the requirement for 1 Task 
 Force meeting. To receive this credit you must RSVP by May 31st by emaili
 ng Jennifer.Thomas@dcs.ga.gov. 
URL:https://gcfv.georgia.gov/events/2019-06-07/quarterly-commission-meeting
DTSTART;VALUE=DATE:20190607
DTEND;VALUE=DATE:20190608
LOCATION:Lanier Technical College\, Ramsey Conference Center\, Abraham Bald
 win Conference Room 2535 Lanier Tech Drive  Gainesville\, GA 30507 US
X-LIC-LOCATION:America/New_York
X-WR-TIMEZONE:America/New_York
END:VEVENT
BEGIN:VTIMEZONE
TZID:America/New_York
END:VTIMEZONE
END:VCALENDAR
