BEGIN:VCALENDAR
PRODID:gcfv.georgia.gov
VERSION:2.0
CALSCALE:GREGORIAN
BEGIN:VEVENT
UID:b76edcb96104a1b2b3e8ae6c0dac1559
DTSTAMP:20260424T234756Z
SUMMARY:Quarterly Commission Meeting
DESCRIPTION:Our quarterly Commission Meeting will be held on Friday\, Marc
 h 8th\, 2018 from 9:30 AM - 12:00 PM at the Clayton County Juvenile Court
  Building.
URL:https://gcfv.georgia.gov/events/2019-03-08/quarterly-commission-meeting
DTSTART;VALUE=DATE:20190308
DTEND;VALUE=DATE:20190309
LOCATION:9163 Tara Blvd  Jonesboro\, GA 30236 US
X-LIC-LOCATION:America/New_York
X-WR-TIMEZONE:America/New_York
END:VEVENT
BEGIN:VTIMEZONE
TZID:America/New_York
END:VTIMEZONE
END:VCALENDAR
