BEGIN:VCALENDAR
VERSION:2.0
PRODID:gcfv.georgia.gov
X-WR-TIMEZONE:America/New_York
BEGIN:VTIMEZONE
TZID:America/New_York
X-LIC-LOCATION:America/New_York
END:VTIMEZONE
BEGIN:VEVENT
UID:60a06de2e5ba2
DTSTART;VALUE=DATE:20190908
SEQUENCE:0
TRANSP:OPAQUE
DTEND;VALUE=DATE:20190912
URL:https://gcfv.georgia.gov/events/2019-09-08/annual-family-violence-confe
 rence
LOCATION:The Classic Center 300 N Thomas St ATHENS\, GA
SUMMARY:Annual Family Violence Conference
CLASS:PUBLIC
DESCRIPTION:The 25th Annual Family Violence Conference Supporting Survivo
 rs and Restoring Hope:25 Years Ago to 25 Years AheadSeptember 9-11\, 2019T
 he Classic Center in Athens\, Georgia Registration\n\nRegistration opens 
 June 10th: https://cvent.me/2r8zr\n\nEarly Registration $260 (until  7/1
 /19)\n\nRegular Registration $285 (until 8/1/19)\n\nLate Registration $305
  (if available\, until 8/23/19)Keynote Speakers\n\nMonday\, September 9th:
  Vanessa McNeal\, an award winning documentary filmmaker and speaker on h
 uman trafficking and male sexual violence\n\nTuesday\, September 10th: Me
 lissa Jeltsen\, a writer and editor for HuffPost\, who writes about gender
 -based violence                       \n\nWednesday\, Septembe
 r 11th: High Point North Carolina Collaborative\, an inter-agency\, comm
 unity-based model of ending domestic violence by holding offenders to acco
 unt in the public square and in privateSchedule & Workshops\n\nThe confere
 nce will feature over 30 unique workshops. Review the schedule and worksho
 p descriptions before you register!\n\nWorkshops DescriptionsContinuing Ed
 ucation\n\nGCFV will apply for continuing education hours through the foll
 owing certification bodies: \n\nCLEsFVIPGACAGAMFTICJELPCANASWPOSTHotels\n
 \nYou can now make your hotel reservations online this year! \n\nHotel Re
 servationsTask Force Awards\n\nEvery year\, GCFV recognizes a Family Viole
 nce Task Force and a Family Violence Task Force Member for their achieveme
 nts in their communities for contributing to a coordinated community respo
 nse. Task Force Award Nominations
X-MICROSOFT-CDO-ALLDAYEVENT:TRUE
DTSTAMP:20210515T205706Z
END:VEVENT
END:VCALENDAR