BEGIN:VCALENDAR
PRODID:gcfv.georgia.gov
VERSION:2.0
CALSCALE:GREGORIAN
BEGIN:VEVENT
UID:dbc646cb467c8bf3376e3ae6df77039d
DTSTAMP:20260425T000359Z
SUMMARY:Balancing Accountability and Engagement Through Enhanced Communicat
 ion in FVIPs
DESCRIPTION:In our efforts to hold participants accountable as facilitators
 \, we may unintentionally alienate individuals and inhibit the process of 
 change. However\, we may also run the risk of colluding with participants 
 in our efforts to keep them engaged and participating in the process. In t
 his training\, we will explore ways to establish an environment that allow
 s the facilitator to hold participants accountable and avoid collusion whi
 le encouraging men to learn\, grow\, be vulnerable and explore their own h
 umanity. We will also focus on the socialization of men\, its role in crea
 ting a culture of violence\, and ways men can take responsibility for thei
 r abusive behaviors while also identifying and rejecting ways socializatio
 n has served to separate men from their humanity. \n\nCEUs: This training
  has been approved by the Commission for 6 FVIP CE hours. Registration:
  Seating is limited. Registration will not be complete until we receive a
  check from you in the correct amount owed ($25 for Georgia facilitators 
 and facilitators in training\, $50 for all others). We will not deposit th
 e check unless your seat is secured. We will email you to confirm your reg
 istration upon receipt of your check.Register\n\nPlease note if you are mo
 re than 15 minutes late you will not be admitted to the training. If you m
 iss more than 15 minutes of the training\, we will not be able to issue a 
 certificate of completion and you will not receive CEU credit.
URL:https://gcfv.georgia.gov/events/2019-03-29/balancing-accountability-and
 -engagement-through-enhanced-communication-fvips
DTSTART;VALUE=DATE:20190329
DTEND;VALUE=DATE:20190330
X-LIC-LOCATION:America/New_York
X-WR-TIMEZONE:America/New_York
END:VEVENT
BEGIN:VTIMEZONE
TZID:America/New_York
END:VTIMEZONE
END:VCALENDAR
