BEGIN:VCALENDAR
PRODID:gcfv.georgia.gov
VERSION:2.0
CALSCALE:GREGORIAN
BEGIN:VEVENT
UID:20887236ba0a3eca70a6f79b4e7a8583
DTSTAMP:20260425T000359Z
SUMMARY:Trauma/Brain 201: Building Resiliency
DESCRIPTION:Register: https://www.eventbrite.com/e/traumabrain-201-buildin
 g-resiliency-savannah-tickets-51730962702\n\nIn this course\, participants
  will explore actions they can take to promote resilience to support the 
 physical and psychological safety of children and families who have experi
 enced child trauma and child traumatic stress. Participants will be provid
 ed with strategies for addressing secondary traumatic stress that can impa
 ct helping professionals.
URL:https://gcfv.georgia.gov/events/2019-03-28/traumabrain-201-building-res
 iliency
DTSTART;VALUE=DATE:20190328
DTEND;VALUE=DATE:20190329
LOCATION:761 Wheaton Street  Savannah\, GA 31401 US
X-LIC-LOCATION:America/New_York
X-WR-TIMEZONE:America/New_York
END:VEVENT
BEGIN:VTIMEZONE
TZID:America/New_York
END:VTIMEZONE
END:VCALENDAR
