BEGIN:VCALENDAR
PRODID:gcfv.georgia.gov
VERSION:2.0
CALSCALE:GREGORIAN
BEGIN:VEVENT
UID:c25411953efe9597e2a159e9917d107b
DTSTAMP:20260425T000359Z
SUMMARY:Brain 101: Understanding the Impact of Trauma on Brain Development 
DESCRIPTION:Regsiter: https://www.eventbrite.com/e/brain-dev-101-understan
 ding-the-impact-of-trauma-on-brain-development-savannah-tickets-5173111315
 2\n\nThis course will provide participants with foundational knowledge abo
 ut how adversity and trauma can impact brain development. The workshop int
 roduces brain architecture and early brain development in children and foc
 uses on the impact of adverse experiences and child trauma on the brain.To
 pics Covered\n\nAdversity & Trauma and the Impact on Brain Development\n\n
 Brain Systems\n\nAdverse Childhood Experiences and Brain Development\n\nRe
 silience and Brain Development
URL:https://gcfv.georgia.gov/events/2019-03-27/brain-101-understanding-impa
 ct-trauma-brain-development
DTSTART;VALUE=DATE:20190327
DTEND;VALUE=DATE:20190328
LOCATION:761 Wheaton Street  Savannah\, GA 31401 US
X-LIC-LOCATION:America/New_York
X-WR-TIMEZONE:America/New_York
END:VEVENT
BEGIN:VTIMEZONE
TZID:America/New_York
END:VTIMEZONE
END:VCALENDAR
