BEGIN:VCALENDAR
PRODID:gcfv.georgia.gov
VERSION:2.0
CALSCALE:GREGORIAN
BEGIN:VEVENT
UID:d87b8954a30f026bea5f6567aa1f76d8
DTSTAMP:20260425T001004Z
SUMMARY:Understanding and Managing Secondary Traumatic Stress
DESCRIPTION:Register: https://www.eventbrite.com/e/understanding-and-manag
 ing-secondary-traumatic-stress-fulton-tickets-54713261839#tickets\n\nThis 
 five hour workshop is designed to improve your understanding of Secondary 
 Traumatic Stress (STS) and its impact. Participants will learn how to asse
 ss STS symptoms in themselves and others\, explore factors that help to pr
 otect professionals from the negative effects of STS\, and discover strate
 gies to use these protective factors to manage STS. Participants will also
  assess their own personal and professional self-care and develop a self-c
 are plan.\n\nTopics Covered\n\nAt the conclusion of this training\, partic
 ipants should be able to:Explain the potential negative impact of STS on t
 heir personal and professional lives\, their organization\, and studentsDi
 stinguish STS from other stress related conditions such as burnoutIdentify
  risk factors and symptoms of STSDescribe STS protective factorsIdentify s
 trategies to manage STSDevelop an individual self-care plan
URL:https://gcfv.georgia.gov/events/2019-02-21/understanding-and-managing-s
 econdary-traumatic-stress
DTSTART;VALUE=DATE:20190221
DTEND;VALUE=DATE:20190222
LOCATION:South Fulton Service Center 5710 Stonewall Tell Rd.  College Park\
 , GA US
X-LIC-LOCATION:America/New_York
X-WR-TIMEZONE:America/New_York
END:VEVENT
BEGIN:VTIMEZONE
TZID:America/New_York
END:VTIMEZONE
END:VCALENDAR
