BEGIN:VCALENDAR
PRODID:gcfv.georgia.gov
VERSION:2.0
CALSCALE:GREGORIAN
BEGIN:VEVENT
UID:05e8bdfecd6a4690e17b6c6ed8d02856
DTSTAMP:20260425T001004Z
SUMMARY:Brain 101: Understanding Brain Development in Children and Adolesce
 nts
DESCRIPTION:Register: https://www.eventbrite.com/e/brain-dev-101-understan
 ding-the-impact-of-trauma-on-brain-development-muscogee-tickets-5462335693
 1\n\nThis course will provide participants with foundational knowledge abo
 ut how adversity and trauma can impact brain development. The workshop int
 roduces brain architecture and early brain development in children and foc
 uses on the impact of adverse experiences and child trauma on the brain.To
 pics Covered\n\nAdversity & Trauma and the Impact on Brain Development\n\n
 Brain Systems\n\nAdverse Childhood Experiences and Brain Development\n\nRe
 silience and Brain Development
URL:https://gcfv.georgia.gov/events/2019-02-08/brain-101-understanding-brai
 n-development-children-and-adolescents
DTSTART;VALUE=DATE:20190208
DTEND;VALUE=DATE:20190209
LOCATION:Piedmont Columbus Regional - Conference Center 710 Center Street  
 Columbus\, GA US
X-LIC-LOCATION:America/New_York
X-WR-TIMEZONE:America/New_York
END:VEVENT
BEGIN:VTIMEZONE
TZID:America/New_York
END:VTIMEZONE
END:VCALENDAR
