BEGIN:VCALENDAR
PRODID:gcfv.georgia.gov
VERSION:2.0
CALSCALE:GREGORIAN
BEGIN:VEVENT
UID:11aff517e46bcd983fddcc1fb8ffe187
DTSTAMP:20260425T001004Z
SUMMARY:Trauma 101: Understanding the Impact of Trauma on Children
DESCRIPTION:Register: https://www.eventbrite.com/e/trauma-101-understandin
 g-the-impact-of-trauma-on-children-muscogee-tickets-54614848482\n\nThis th
 ree hour workshop will provide participants with foundational knowledge ab
 out child trauma and child traumatic stress. Three types of child trauma a
 re defined. The workshop focuses on the impact of complex trauma on behavi
 or and development\, and helps participants identify strategies for workin
 g with children who have experienced trauma.Topics Covered\n\n• Child Tr
 auma: Definitions and Types of Trauma\n\n• How Trauma affects Children a
 nd Youth\n\n• Overview of Impact of Trauma on the Brain\n\n• Managing 
 Physical and Psychological Safety for Children\n\n• Enhancing Child Well
 -being and Resilience
URL:https://gcfv.georgia.gov/events/2019-02-08/trauma-101-understanding-imp
 act-trauma-children
DTSTART;VALUE=DATE:20190208
DTEND;VALUE=DATE:20190209
LOCATION:Piedmont Columbus Regional - Conference Center 710 Center Street  
 Columbus\, GA US
X-LIC-LOCATION:America/New_York
X-WR-TIMEZONE:America/New_York
END:VEVENT
BEGIN:VTIMEZONE
TZID:America/New_York
END:VTIMEZONE
END:VCALENDAR
