BEGIN:VCALENDAR
PRODID:gcfv.georgia.gov
VERSION:2.0
CALSCALE:GREGORIAN
BEGIN:VEVENT
UID:c01fd3764ff383bb5e13a66a9264be2e
DTSTAMP:20260425T001004Z
SUMMARY:Men at Work: Building Safe Communities Curriculum Training (MSV)
DESCRIPTION:Men At Work: Building Safe Communities is an innovative and mu
 lti-disciplinary curriculum that: explores male violence against women in 
 an accessible manner\; challenges men to take responsibility for their act
 ions\; and provides the educational experience necessary to become allies 
 in ending violence against women. In this three-day training\, we will pro
 vide participants with the knowledge and tools needed to implement Men At
  Work. Join us in Atlanta for three days of transformation! Click here f
 or more details. What You Will Receive  Men At Work Instructors' Manual
 Men At Work Students' ManualMen At Work Facilitation TrainingMen At Work
  Curriculum Implementation Training\n\nThis training has been approved by
  the Georgia Commission on Family Violence for 20 FVIP hours. Training Co
 st    \n\n$495Contact Lee Giordano at (404) 270-9894 for more informat
 ion or to register.
URL:https://gcfv.georgia.gov/events/2019-02-20/men-work-building-safe-commu
 nities-curriculum-training-msv
DTSTART;VALUE=DATE:20190220
DTEND;VALUE=DATE:20190223
LOCATION:Men Stopping Violence 2785 Lawrenceville Hwy Suite 112  Decatur\, 
 GA 30318 US
X-LIC-LOCATION:America/New_York
X-WR-TIMEZONE:America/New_York
END:VEVENT
BEGIN:VTIMEZONE
TZID:America/New_York
END:VTIMEZONE
END:VCALENDAR
