BEGIN:VCALENDAR
PRODID:gcfv.georgia.gov
VERSION:2.0
CALSCALE:GREGORIAN
BEGIN:VEVENT
UID:d1cebbc5f67b32c5dc293f0187fc0922
DTSTAMP:20260424T200848Z
SUMMARY:Primary Does Not Mean First: Identifying the Primary Physical Aggre
 ssor in Family Violence Incidents
DESCRIPTION:This training is open to all law enforcement agencies and disci
 plines. It has been approved for 6 POST hours. It is not approved for FVI
 P hours. \n\nRegister by November 23rd: https://tinyurl.com/valdosta2018
 \n\nCall Jenny Aszman with questions: 404-232-1830
URL:https://gcfv.georgia.gov/events/2018-11-30/primary-does-not-mean-first-
 identifying-primary-physical-aggressor-family
DTSTART;VALUE=DATE:20181130
DTEND;VALUE=DATE:20181201
LOCATION:Wiregrass Georgia Technical College 4089 Val Tech Rd  Valdosta\, G
 A 31602 US
X-LIC-LOCATION:America/New_York
X-WR-TIMEZONE:America/New_York
END:VEVENT
BEGIN:VTIMEZONE
TZID:America/New_York
END:VTIMEZONE
END:VCALENDAR
