BEGIN:VCALENDAR
PRODID:gcfv.georgia.gov
VERSION:2.0
CALSCALE:GREGORIAN
BEGIN:VEVENT
UID:244594373c59f8a3fa6e58d3f201ade9
DTSTAMP:20260424T200848Z
SUMMARY:Primary Does Not Mean First: Identifying the Primary Physical Aggre
 ssor in Family Violence Incidents
DESCRIPTION:This training is open to all law enforcement agencies and disci
 plines. It has been approved for 6 POST hours. It is not approved for FVI
 P hours.\n\nRegister by November 2nd: https://tinyurl.com/romega2018
URL:https://gcfv.georgia.gov/events/2018-11-07/primary-does-not-mean-first-
 identifying-primary-physical-aggressor-family
DTSTART;VALUE=DATE:20181107
DTEND;VALUE=DATE:20181108
LOCATION:FLOYD COUNTY SHERIFF’S OFFICE 2526 NEW CALHOUN HIGHWAY  Rome\, G
 A 30161 US
X-LIC-LOCATION:America/New_York
X-WR-TIMEZONE:America/New_York
END:VEVENT
BEGIN:VTIMEZONE
TZID:America/New_York
END:VTIMEZONE
END:VCALENDAR
