BEGIN:VCALENDAR
VERSION:2.0
PRODID:gcfv.georgia.gov
X-WR-TIMEZONE:America/New_York
BEGIN:VTIMEZONE
TZID:America/New_York
X-LIC-LOCATION:America/New_York
END:VTIMEZONE
BEGIN:VEVENT
UID:60a92b432a1ce
DTSTART;VALUE=DATE:20180824
SEQUENCE:0
TRANSP:OPAQUE
DTEND;VALUE=DATE:20180825
URL:https://gcfv.georgia.gov/events/2018-08-24/understanding-intersection-f
 amily-violence-and-substance-use-disorder
LOCATION:44 Broad Street NW\, Suite 707 ATLANTA\, GA 30303
SUMMARY:Understanding the Intersection of Family Violence and Substance Use
  Disorder
CLASS:PUBLIC
DESCRIPTION:Please see attached brochure for more details. \n\nThis traini
 ng is approved by the Commission for 6 FVIP CE hours. 
X-MICROSOFT-CDO-ALLDAYEVENT:TRUE
DTSTAMP:20210522T120315Z
END:VEVENT
END:VCALENDAR