BEGIN:VCALENDAR
PRODID:gcfv.georgia.gov
VERSION:2.0
CALSCALE:GREGORIAN
BEGIN:VEVENT
UID:f820214df968cba89fc415674eb174ee
DTSTAMP:20260424T200848Z
SUMMARY:You Made Me Hit You: Addressing Accountability in FVIP Groups
DESCRIPTION:Please see attached brochure for more details. \n\nThis traini
 ng is approved by the Commission for 6 FVIP CE hours. 
URL:https://gcfv.georgia.gov/events/2018-11-19/you-made-me-hit-you-addressi
 ng-accountability-fvip-groups
DTSTART;VALUE=DATE:20181119
DTEND;VALUE=DATE:20181120
LOCATION:44 Broad Street NW\, Suite 707  Atlanta\, GA 30303 US
X-LIC-LOCATION:America/New_York
X-WR-TIMEZONE:America/New_York
END:VEVENT
BEGIN:VTIMEZONE
TZID:America/New_York
END:VTIMEZONE
END:VCALENDAR
