BEGIN:VCALENDAR
VERSION:2.0
PRODID:gcfv.georgia.gov
X-WR-TIMEZONE:America/New_York
BEGIN:VTIMEZONE
TZID:America/New_York
X-LIC-LOCATION:America/New_York
END:VTIMEZONE
BEGIN:VEVENT
UID:60a92b4aa5df6
DTSTART;TZID=UTC:20180814T133000
SEQUENCE:0
TRANSP:OPAQUE
DTEND;TZID=UTC:20180814T203000
URL:https://gcfv.georgia.gov/events/2018-08-14/focusing-sexual-violence-tac
 tic-control-teaching-sexual-respect-through-fvips
LOCATION:liveSAFE Resources\, Inc. 48 Henderson Street\, Training Conferenc
 e Room MARIETTA\, GA 30064
SUMMARY:Focusing on Sexual Violence as a Tactic of Control: Teaching Sexual
  Respect Through FVIPs
CLASS:PUBLIC
DESCRIPTION:Sexual violence accompanies physical and psychological violence
  as tactics used by men referred to Family Violence Intervention Programs\
 , but is often de-emphasized in comparison. A de-emphasis on sexual violen
 ce may be a result of facilitator discomfort discussing the issue or a lac
 k of understanding about how sexual violence relates to other abusive tact
 ics. In this day long workshop\, Men Stopping Violence will share its defi
 nition of male sexual violence\, explore tactics on the spectrum of sexual
  violence\, and provide tools to teach sexual respect in Family Violence I
 ntervention Programs.\n\nCEUs: This training has been approved by the Com
 mission for 6 FVIP CE hours. Registration: Seating is limited. Priority
  will be given to approved FVIP facilitators in Georgia and FVIP facilitat
 ors in training in Georgia. Registration will not be complete until we rec
 eive a check from you in the correct amount owed ($25 for Georgia facilit
 ators and facilitators in training\, $50 for all others). \n\nQuestions: 
 Please contact Jenny Aszman at 404-232-1830 with any questions. Please no
 te if you are more than 15 minutes late you will not be admitted to the tr
 aining. If you miss more than 15 minutes of the training\, we will not be 
 able to issue a certificate of completion and you will not receive CEU cre
 dit.\n\nRegister
DTSTAMP:20210522T120322Z
END:VEVENT
END:VCALENDAR