BEGIN:VCALENDAR
VERSION:2.0
PRODID:gcfv.georgia.gov
X-WR-TIMEZONE:America/New_York
BEGIN:VTIMEZONE
TZID:America/New_York
X-LIC-LOCATION:America/New_York
END:VTIMEZONE
BEGIN:VEVENT
UID:60a92b36b9e1e
DTSTART;TZID=UTC:20180827T130000
SEQUENCE:0
TRANSP:OPAQUE
DTEND;TZID=UTC:20180828T200000
URL:https://gcfv.georgia.gov/events/2018-08-27/primary-does-not-mean-first-
 identifying-primary-physical-aggressor-family
LOCATION:Law Enforcement Center 201 W Oglethorpe Blvd ALBANY\, GA 31701
SUMMARY:Primary Does Not Mean First: Identifying the Primary Physical Aggre
 ssor in Family Violence Incidents
CLASS:PUBLIC
DESCRIPTION:This 1-day training is being offered for 2 consecutive days in
  Albany\, Georgia. Please select which date you will attend when you regis
 ter. This training is open to all law enforcement agencies and discipline
 s. It has been approved for 6 POST hours. It is not approved for FVIP hou
 rs. \n\nRegister by August 20th: http://tinyurl.com/albany2018\n\nCall Je
 nny Aszman with questions: 404-232-1830
DTSTAMP:20210522T120302Z
END:VEVENT
END:VCALENDAR