BEGIN:VCALENDAR
VERSION:2.0
PRODID:gcfv.georgia.gov
X-WR-TIMEZONE:America/New_York
BEGIN:VTIMEZONE
TZID:America/New_York
X-LIC-LOCATION:America/New_York
END:VTIMEZONE
BEGIN:VEVENT
UID:60aa65882f3db
DTSTART;TZID=UTC:20180504T133000
SEQUENCE:0
TRANSP:OPAQUE
DTEND;TZID=UTC:20180504T204500
URL:https://gcfv.georgia.gov/events/2018-05-04/substance-abuse-its-effects-
 victims-and-perpetrators
LOCATION:5073 Lavista Road TUCKER\, GA
SUMMARY:Substance Abuse: It's Effects on Victims and Perpetrators
CLASS:PUBLIC
DESCRIPTION:What is the link between substance abuse and family violence? W
 hile substance abuse does not cause family violence\, often it is used as 
 an excuse for family violence as well as the severity of the violence is o
 ften strenghtened by substance abuse. \n\nSee attached file (below) for m
 ore information. \n\nCost: $50.00\n\n\n\n\n\n\n\nThis training has been a
 pproved by the Commission for 6 FVIP CE hours.
DTSTAMP:20210523T102408Z
END:VEVENT
END:VCALENDAR