BEGIN:VCALENDAR
VERSION:2.0
PRODID:gcfv.georgia.gov
X-WR-TIMEZONE:America/New_York
BEGIN:VTIMEZONE
TZID:America/New_York
X-LIC-LOCATION:America/New_York
END:VTIMEZONE
BEGIN:VEVENT
UID:60aa6594a00db
DTSTART;TZID=UTC:20180504T130000
SEQUENCE:0
TRANSP:OPAQUE
DTEND;TZID=UTC:20180504T130000
URL:https://gcfv.georgia.gov/events/2018-05-04/traumabrain-201-building-res
 iliency
LOCATION:Gwinnett Technical College 5150 Sugarloaf Parkway Building 100 - R
 oom 902 LAWRENCEVILLE\, GA
SUMMARY:Trauma/Brain 201: Building Resiliency
CLASS:PUBLIC
DESCRIPTION:In this course\, participants will explore actions they can tak
 e to promote resilience to support the physical and psychological safety 
 of children and families who have experienced child trauma and child traum
 atic stress. Participants will be provided with strategies for addressing 
 secondary traumatic stress that can impact helping professionals.\n\nThis 
 course is approved for 5 hours of continuing education for MSW (core)\, LP
 C & LMFT (related)\, POST\, DECAL\, FVIP and Babies Can’t Wait – Proje
 ct SCEIs in Area 1 | Children and Families – Birth to 8 and Nursing.\n\n
 Register: https://www.eventbrite.com/e/traumabrain-201-building-resilienc
 y-gwinnett-technical-college-tickets-44001835675
DTSTAMP:20210523T102420Z
END:VEVENT
END:VCALENDAR