BEGIN:VCALENDAR
VERSION:2.0
PRODID:gcfv.georgia.gov
X-WR-TIMEZONE:America/New_York
BEGIN:VTIMEZONE
TZID:America/New_York
X-LIC-LOCATION:America/New_York
END:VTIMEZONE
BEGIN:VEVENT
UID:60aa659b77d20
DTSTART;TZID=UTC:20180503T173000
SEQUENCE:0
TRANSP:OPAQUE
DTEND;TZID=UTC:20180503T173000
URL:https://gcfv.georgia.gov/events/2018-05-03/brain-101-understanding-brai
 n-development-children-and-adolescents
LOCATION:Gwinnett Technical College 5150 Sugarloaf Parkway Building 100 - R
 oom 902 LAWRENCEVILLE\, GA
SUMMARY:Brain 101: Understanding Brain Development in Children and Adolesce
 nts
CLASS:PUBLIC
DESCRIPTION:This course will provide participants with foundational knowled
 ge about how adversity and trauma can impact brain development. Participan
 ts will also be introduced to brain architecture and early brain developme
 nt in children.\n\nCEU’s available for MSW (core)\, LPC\, LMFT (related)
 \, POST\, FVIP & DECAL\, FVIP\, Babies Can’t Wait – Project SCEIs in A
 rea 1 | Children and Families – Birth to 8 and Nursing.Register: https:
 //www.eventbrite.com/e/brain-dev-101-understanding-the-impact-of-trauma-on
 -brain-development-gwinnett-technical-college-tickets-44001675195
DTSTAMP:20210523T102427Z
END:VEVENT
END:VCALENDAR