BEGIN:VCALENDAR
VERSION:2.0
PRODID:gcfv.georgia.gov
X-WR-TIMEZONE:America/New_York
BEGIN:VTIMEZONE
TZID:America/New_York
X-LIC-LOCATION:America/New_York
END:VTIMEZONE
BEGIN:VEVENT
UID:60aa65a205687
DTSTART;TZID=UTC:20180503T130000
SEQUENCE:0
TRANSP:OPAQUE
DTEND;TZID=UTC:20180503T130000
URL:https://gcfv.georgia.gov/events/2018-05-03/trauma-101-understanding-imp
 act-trauma-children
LOCATION:Gwinnett Technical College 5150 Sugarloaf Parkway Building 100 - R
 oom 902 LAWRENCEVILLE\, GA
SUMMARY:Trauma 101: Understanding the Impact of Trauma on Children
CLASS:PUBLIC
DESCRIPTION:This course will provide participants with foundational knowled
 ge about child trauma and child traumatic stress. Participants will learn 
 how trauma affects children including the impact on child development.\n\n
 3 hours of CEUs available for MSW (core)\, LPC & LMFT (related)\, POST\, D
 ECAL\, FVIP\, Babies Can’t Wait – Project SCEIs in Area 1 | Children a
 nd Families – Birth to 8 and Nursing.Register: https://www.eventbrite.c
 om/e/trauma-101-understanding-the-impact-of-trauma-on-children-gwinnett-te
 chnical-college-tickets-44001501676
DTSTAMP:20210523T102434Z
END:VEVENT
END:VCALENDAR