BEGIN:VCALENDAR
VERSION:2.0
PRODID:gcfv.georgia.gov
X-WR-TIMEZONE:America/New_York
BEGIN:VTIMEZONE
TZID:America/New_York
X-LIC-LOCATION:America/New_York
END:VTIMEZONE
BEGIN:VEVENT
UID:60aa65b37da9c
DTSTART;TZID=UTC:20180425T130000
SEQUENCE:0
TRANSP:OPAQUE
DTEND;TZID=UTC:20180425T130000
URL:https://gcfv.georgia.gov/events/2018-04-25/traumabrain-201-building-res
 iliency
LOCATION:South Fulton Service Center (SFSC) - Conference Room A 5710 Stonew
 all Tell Rd. COLLEGE PARK\, GA 30349
SUMMARY:Trauma/Brain 201: Building Resiliency
CLASS:PUBLIC
DESCRIPTION:Please complete Trauma 101 and Brain 101 prior to taking this c
 ourse.\n\nIn this course\, participants will explore actions they can take
  to promote resilience to support the physical and psychological safety o
 f children and families who have experienced child trauma and child trauma
 tic stress. Participants will be provided with strategies for addressing s
 econdary traumatic stress that can impact helping professionals.\n\nThis c
 ourse is approved for 5 hours of continuing education for MSW (core)\, LPC
  & LMFT (related)\, POST\, DECAL\, FVIP and Babies Can’t Wait – Projec
 t SCEIs in Area 1 | Children and Families – Birth to 8 and Nursing.\n\nR
 egister: https://www.eventbrite.com/e/traumabrain-201-building-resiliency
 -south-fulton-dfcs-tickets-44000019242
DTSTAMP:20210523T102451Z
END:VEVENT
END:VCALENDAR