BEGIN:VCALENDAR
VERSION:2.0
PRODID:gcfv.georgia.gov
X-WR-TIMEZONE:America/New_York
BEGIN:VTIMEZONE
TZID:America/New_York
X-LIC-LOCATION:America/New_York
END:VTIMEZONE
BEGIN:VEVENT
UID:60aa65b9764ef
DTSTART;TZID=UTC:20180424T173000
SEQUENCE:0
TRANSP:OPAQUE
DTEND;TZID=UTC:20180424T173000
URL:https://gcfv.georgia.gov/events/2018-04-24/brain-101-understanding-brai
 n-development-children-and-adolescents
LOCATION:South Fulton Service Center (SFSC) - Conference Room A 5710 Stonew
 all Tell Rd. COLLEGE PARK\, GA 30349
SUMMARY:Brain 101: Understanding Brain Development in Children and Adolesce
 nts
CLASS:PUBLIC
DESCRIPTION:This course will provide participants with foundational knowled
 ge about how adversity and trauma can impact brain development. Participan
 ts will also be introduced to brain architecture and early brain developme
 nt in children.\n\n3 CEU hours available for MSW (core)\, LPC\, LMFT (rela
 ted)\, POST\, FVIP & DECAL\, FVIP\, Babies Can’t Wait – Project SCEIs 
 in Area 1 | Children and Families – Birth to 8 and Nursing.\n\nRegister:
  https://www.eventbrite.com/e/brain-101-understanding-the-impact-of-traum
 a-on-brain-development-south-fulton-dfcs-tickets-43999769495
DTSTAMP:20210523T102457Z
END:VEVENT
END:VCALENDAR