BEGIN:VCALENDAR
VERSION:2.0
PRODID:gcfv.georgia.gov
X-WR-TIMEZONE:America/New_York
BEGIN:VTIMEZONE
TZID:America/New_York
X-LIC-LOCATION:America/New_York
END:VTIMEZONE
BEGIN:VEVENT
UID:60aa65c0a5d45
DTSTART;TZID=UTC:20180424T130000
SEQUENCE:0
TRANSP:OPAQUE
DTEND;TZID=UTC:20180424T130000
URL:https://gcfv.georgia.gov/events/2018-04-24/trauma-101-understanding-imp
 act-trauma-children
LOCATION:South Fulton Service Center (SFSC) - Conference Room A 5710 Stonew
 all Tell Rd. COLLEGE PARK\, GA 30349
SUMMARY:Trauma 101: Understanding the Impact of Trauma on Children
CLASS:PUBLIC
DESCRIPTION:This course will provide participants with foundational knowled
 ge about child trauma and child traumatic stress. Participants will learn 
 how trauma affects children including the impact on child development.\n\n
 3 hours of CEUs available for MSW (core)\, LPC & LMFT (related)\, POST\, D
 ECAL\, FVIP\, Babies Can’t Wait – Project SCEIs in Area 1 | Children a
 nd Families – Birth to 8 and Nursing.\n\nRegister: https://www.eventbri
 te.com/e/trauma-101-understanding-the-impact-of-trauma-on-children-south-f
 ulton-dfcs-tickets-43999091467
DTSTAMP:20210523T102504Z
END:VEVENT
END:VCALENDAR