BEGIN:VCALENDAR
VERSION:2.0
PRODID:gcfv.georgia.gov
X-WR-TIMEZONE:America/New_York
BEGIN:VTIMEZONE
TZID:America/New_York
X-LIC-LOCATION:America/New_York
END:VTIMEZONE
BEGIN:VEVENT
UID:60aa65ce5ca06
DTSTART;TZID=UTC:20180423T130000
SEQUENCE:0
TRANSP:OPAQUE
DTEND;TZID=UTC:20180423T130000
URL:https://gcfv.georgia.gov/events/2018-04-23/brain-101-understanding-brai
 n-development-children-and-adolescents
LOCATION:6503 Glade Rd. SE ACWORTH\, GA 30102
SUMMARY:Brain 101: Understanding Brain Development in Children and Adolesce
 nts
CLASS:PUBLIC
DESCRIPTION:This course will provide participants with foundational knowled
 ge about how adversity and trauma can impact brain development. Participan
 ts will also be introduced to brain architecture and early brain developme
 nt in children.\n\n3 CEUs available for MSW (core)\, LPC\, LMFT (related)\
 , POST\, FVIP & DECAL\, FVIP\, Babies Can’t Wait – Project SCEIs in Ar
 ea 1 | Children and Families – Birth to 8 and Nursing.\n\nRegister: htt
 ps://www.eventbrite.com/e/brain-101-understanding-the-impact-of-trauma-on-
 brain-development-acworth-ga-cobb-county-tickets-42644129740
DTSTAMP:20210523T102518Z
END:VEVENT
END:VCALENDAR