BEGIN:VCALENDAR
VERSION:2.0
PRODID:gcfv.georgia.gov
X-WR-TIMEZONE:America/New_York
BEGIN:VTIMEZONE
TZID:America/New_York
X-LIC-LOCATION:America/New_York
END:VTIMEZONE
BEGIN:VEVENT
UID:60aa65a75c2ab
DTSTART;TZID=UTC:20180427T130000
SEQUENCE:0
TRANSP:OPAQUE
DTEND;TZID=UTC:20180427T170000
URL:https://gcfv.georgia.gov/events/2018-04-27/childhood-traumas-effects-ad
 ulthood
LOCATION:Goodwill Employment Center\, Building B 2607 Cross Country Dr E CO
 LUMBUS\, GA 31906
SUMMARY:Childhood Traumas: Effects on Adulthood
CLASS:PUBLIC
DESCRIPTION:Childhood traumas can greatly impact adulthood. Whether or not 
 there is prevention or intervention can determine the well-being of the ad
 ult. This program aims to help identify the impact on the child\, the adul
 t\, and the community. \n\nThis training has been approved by the Commiss
 ion for 3 FVIP CE hours. \n\nPlease see the program brochure for more inf
 ormation. 
DTSTAMP:20210523T102439Z
END:VEVENT
END:VCALENDAR