BEGIN:VCALENDAR
VERSION:2.0
PRODID:gcfv.georgia.gov
X-WR-TIMEZONE:America/New_York
BEGIN:VTIMEZONE
TZID:America/New_York
X-LIC-LOCATION:America/New_York
END:VTIMEZONE
BEGIN:VEVENT
UID:60aa6577f1ef8
DTSTART;VALUE=DATE:20180507
SEQUENCE:0
TRANSP:OPAQUE
DTEND;VALUE=DATE:20180510
URL:https://gcfv.georgia.gov/events/2018-05-07/cm-consulting-2018-spring-co
 nference-violence-against-women-family-violence
LOCATION:Savannah-Chatham Metropolitan Police Professional Development Cent
 er 3401 Edwin Avenue SAVANNAH\, GA
SUMMARY:C&M Consulting 2018 Spring Conference for Violence Against Women & 
 Family Violence Professionals
CLASS:PUBLIC
DESCRIPTION:The C&M Consulting Spring 2018 Conference is designed to offer
  education with the goal of empowering attendees with vital knowledge reg
 arding sexual assault and family violence related matters including but n
 ot limited to\; sexual assault investigation\, intimate partner violence\
 , crimes against children investigations\, behavioral-based investigative 
 strategies\, cyber stalking\, and human trafficking. The Conference will 
 promote collaboration and provide tools to broaden and improve the impact
  the law enforcement\, criminal justice\, health care\, mental health\, a
 nd advocate communities have on victims of violent crime.\n\nConference re
 gistration fee is $395 per attendee. Space is very limited so prepare to r
 egister early.This training has been approved by the Commission for 13 F
 VIP CE hours.\n\nVisit https://www.c-mconferences.com/ for more informati
 on and to register.
X-MICROSOFT-CDO-ALLDAYEVENT:TRUE
DTSTAMP:20210523T102352Z
END:VEVENT
END:VCALENDAR