BEGIN:VCALENDAR
VERSION:2.0
PRODID:gcfv.georgia.gov
X-WR-TIMEZONE:America/New_York
BEGIN:VTIMEZONE
TZID:America/New_York
X-LIC-LOCATION:America/New_York
END:VTIMEZONE
BEGIN:VEVENT
UID:6163573455a64
DTSTART;TZID=UTC:20180130T140000
SEQUENCE:0
TRANSP:OPAQUE
DTEND;TZID=UTC:20180130T140000
URL:https://gcfv.georgia.gov/events/2018-01-30/traumabrain-201
LOCATION:Lumpkin County Parks and Recreation\, Heritage Room B 365 Riley Rd
  DAHLONEGA\, GA 30533
SUMMARY:Trauma/Brain 201
CLASS:PUBLIC
DESCRIPTION:Trauma/Brain 201: Building Resiliency\n\nPlease complete Trauma
  101 and Brain 101 prior to taking this course.\n\nIn this course\, partic
 ipants will explore actions they can take to promote resilience to support
  the physical and psychological safety of children and families who have 
 experienced child trauma and child traumatic stress. Participants will be 
 provided with strategies for addressing secondary traumatic stress that ca
 n impact helping professionals.\n\nThis course is approved for 5 hours of 
 continuing education for MSW (core)\, LPC & LMFT (related)\, POST\, DECAL\
 , FVIP and Babies Can’t Wait – Project SCEIs in Area 1 | Children and 
 Families – Birth to 8.Register: http://calendar.gsu.edu/event/dahlonega
 _traumabrain_201#.WjPNm9-nFaQ
DTSTAMP:20211010T171220Z
END:VEVENT
END:VCALENDAR