BEGIN:VCALENDAR
VERSION:2.0
PRODID:gcfv.georgia.gov
X-WR-TIMEZONE:America/New_York
BEGIN:VTIMEZONE
TZID:America/New_York
X-LIC-LOCATION:America/New_York
END:VTIMEZONE
BEGIN:VEVENT
UID:616172ee6afe4
DTSTART;VALUE=DATE:20170609
SEQUENCE:0
TRANSP:OPAQUE
DTEND;VALUE=DATE:20170610
URL:https://gcfv.georgia.gov/events/2017-06-09/ethics-discussing-critical-i
 ncidents
LOCATION:5073 LaVista Rd TUCKER\, GA
SUMMARY:Ethics: Discussing Critical Incidents
CLASS:PUBLIC
DESCRIPTION:Ethics training for FVIP providers is a weakness in our field b
 ecause it is not a requirement. It is the number one required course in al
 l other areas of the helping professions. This training will cover basic e
 thics and then vignettes where we can practice what we would consider the 
 appropriate ethical behavior. \n\nFee: $50 for 6 CE hours for FVIP \n\nC
 ontact David Clark at 770-713-8580 or drdavidclark@bellsouth.net
X-MICROSOFT-CDO-ALLDAYEVENT:TRUE
DTSTAMP:20211009T064606Z
END:VEVENT
END:VCALENDAR