BEGIN:VCALENDAR
PRODID:gcfv.georgia.gov
VERSION:2.0
CALSCALE:GREGORIAN
BEGIN:VEVENT
UID:6dc22894e3ee1b3eaf87f26706a452b2
DTSTAMP:20260422T111808Z
SUMMARY:Get Out! How to Manage Challenging FVIP Participants 
DESCRIPTION:Date: May 29\,2026\n\nTime: 9:00 am - 4:30 pm\n\nTraining Fee: 
 $50\n\nApproved for 6 Commission-Approved Hours\n\nThis course will teach 
 FVIP facilitators how to recognize the warning signs or triggers that let 
 you know the participant is getting angry. It will teach you how to valida
 te participants and diffuse situations so you and your participants can be
  heard and how to use key phrases to calm participants before a crisis occ
 urs.\n\nPresenter: Dr. Terry Parks\n\nRegistration closes May 25\, 2026. T
 he training cost $50 (nonrefundable). Payment must be received by  May 28
 \, 2026. For questions regarding the training please contact gcfv@gcfv.ga.
 gov
URL:https://gcfv.georgia.gov/events/2026-05-29/get-out-how-manage-challengi
 ng-fvip-participants
DTSTART;VALUE=DATE:20260529
DTEND;VALUE=DATE:20260530
X-LIC-LOCATION:America/New_York
X-WR-TIMEZONE:America/New_York
END:VEVENT
BEGIN:VTIMEZONE
TZID:America/New_York
END:VTIMEZONE
END:VCALENDAR
