BEGIN:VCALENDAR
PRODID:gcfv.georgia.gov
VERSION:2.0
CALSCALE:GREGORIAN
BEGIN:VEVENT
UID:42f194af2660eea0e87839d8e41ea2bd
DTSTAMP:20260421T142152Z
SUMMARY:Mandatory Revised FVIP Rules Training 
DESCRIPTION:This live virtual training is required for all Certified FVIP P
 roviders and Facilitators. Participants will review the updated FVIP Rules
 \, explore key compliance expectations\, and strengthen best practices for
  program delivery. Morning and afternoon sessions are available to support
  flexible scheduling.\n\nCredit: Participants will receive 3 Commission‑
 Approved Hours for attending the live virtual training. Please note that r
 ecordings are not eligible for credit.\n\nThis training is not intended fo
 r FVIP Facilitators or Providers who are still in training or seeking cert
 ification.  \n\nMorning Sessions  9 a.m. to 12:00 p.m.\n\nMay 19\, 2026
 \n\nJun 16\, 2026\n\nJul 21\, 2026\n\nAug 18\, 2026\n\nSept15\, 2026\n\nOc
 t 10\, 2026\n\nAfternoon Sessions 1:30 p.m. to 4:30 p.m.  \n\nMay 5\, 20
 26\n\nJun 2\, 2026\n\nJul 7\, 2026\n\nAug 4\, 2026\n\nSept 8\, 2026\n\nOct
  20\, 2026\n\nSpace is limited. This is a free training\, and registration
  will close once capacity is reached. 
URL:https://gcfv.georgia.gov/events/2026-07-21/mandatory-revised-fvip-rules
 -training
DTSTART;VALUE=DATE:20260721
DTEND;VALUE=DATE:20260722
X-LIC-LOCATION:America/New_York
X-WR-TIMEZONE:America/New_York
END:VEVENT
BEGIN:VTIMEZONE
TZID:America/New_York
END:VTIMEZONE
END:VCALENDAR
