BEGIN:VCALENDAR
PRODID:gcfv.georgia.gov
VERSION:2.0
CALSCALE:GREGORIAN
BEGIN:VEVENT
UID:85cc9884b8b322ae9554945ba1bd5ec5
DTSTAMP:20260421T124721Z
SUMMARY:Mandatory Revised FVIP Rules Training
DESCRIPTION:Required for all Certified FVIP Providers and Facilitators. Ses
 sions are offered in both the morning and afternoon. You only need to atte
 nd the training once.\n\nCredit: Participants will receive 3 Commission‑
 Approved Hours for attending the live virtual training. Please note that r
 ecordings are not eligible for credit.\n\nThis training is not intended fo
 r FVIP Facilitators or Providers who are still in training or seeking cert
 ification.  \n\nMorning Sessions  9 a.m. to 12:00 p.m.\n\nMay 19\, 2026
 \n\nJun 16\, 2026\n\nJul 21\, 2026\n\nAug 18\, 2026\n\nSept15\, 2026\n\nOc
 t 10\, 2026\n\nAfternoon Sessions 1:30 p.m. to 4:30 p.m.  \n\nMay 5\, 20
 26\n\nJun 2\, 2026\n\nJul 7\, 2026\n\nAug 4\, 2026\n\nSept 8\, 2026\n\nOct
  20\, 2026\n\nSpace is limited. This is a free training\, and registration
  will close once capacity is reached. 
URL:https://gcfv.georgia.gov/events/2026-05-19/mandatory-revised-fvip-rules
 -training
DTSTART;VALUE=DATE:20260519
DTEND;VALUE=DATE:20260520
X-LIC-LOCATION:America/New_York
X-WR-TIMEZONE:America/New_York
END:VEVENT
BEGIN:VTIMEZONE
TZID:America/New_York
END:VTIMEZONE
END:VCALENDAR
