BEGIN:VCALENDAR
VERSION:2.0
PRODID:gcfv.georgia.gov
X-WR-TIMEZONE:America/New_York
BEGIN:VTIMEZONE
TZID:America/New_York
X-LIC-LOCATION:America/New_York
END:VTIMEZONE
BEGIN:VEVENT
UID:616173104ab0e
DTSTART;TZID=UTC:20170522T130000
SEQUENCE:0
TRANSP:OPAQUE
DTEND;TZID=UTC:20170522T200000
URL:https://gcfv.georgia.gov/events/2017-05-22/law-enforcement-training
LOCATION:RJ's Grill 434 S Main St STATESBORO\, GA 30458
SUMMARY:Law Enforcement Training
CLASS:PUBLIC
DESCRIPTION:Training Topics: Physical Aggressor Identification\, Strangula
 tion\, Family Violence Dynamics\, Local Victim Services\n\nTarget Audience
 : Law Enforcement Officers\, Probation Officers\, Prosecutors\, Judges\, 
 Domestic Violence Advocates\, DFCS Staff\n\nPOST Credit: Officers will re
 ceive 6 hours of P.O.S.T. Certified Training on Family Violence.\n\nRegist
 er: http://tinyurl.com/statesboro2017\n\nSponsored by: Safe Haven\, Niki
 's Place\, & the Georgia Commission on Family Violence\n\nQuestions? Cal
 l the Georgia Commission on Family Violence: 404-657-3412
DTSTAMP:20211009T064640Z
END:VEVENT
END:VCALENDAR