BEGIN:VCALENDAR
VERSION:2.0
PRODID:gcfv.georgia.gov
X-WR-TIMEZONE:America/New_York
BEGIN:VTIMEZONE
TZID:America/New_York
X-LIC-LOCATION:America/New_York
END:VTIMEZONE
BEGIN:VEVENT
UID:616172f583a33
DTSTART;TZID=UTC:20170602T133000
SEQUENCE:0
TRANSP:OPAQUE
DTEND;TZID=UTC:20170602T133000
URL:https://gcfv.georgia.gov/events/2017-06-02/quarterly-commission-meeting
LOCATION:Judge Romae T. Powell Juvenile Justice Center 395 Pryor Street\, S
 W\, Suite 1132-1133 ATLANTA\, GA 30312
SUMMARY:Quarterly Commission Meeting
CLASS:PUBLIC
DESCRIPTION:Please call GCFV for more information: 404-657-3412
DTSTAMP:20211009T064613Z
END:VEVENT
END:VCALENDAR