BEGIN:VCALENDAR
VERSION:2.0
PRODID:gcfv.georgia.gov
X-WR-TIMEZONE:America/New_York
BEGIN:VTIMEZONE
TZID:America/New_York
X-LIC-LOCATION:America/New_York
END:VTIMEZONE
BEGIN:VEVENT
UID:6161730413cb4
DTSTART;TZID=UTC:20170523T130000
SEQUENCE:0
TRANSP:OPAQUE
DTEND;TZID=UTC:20170523T200000
URL:https://gcfv.georgia.gov/events/2017-05-23/law-enforcement-training
LOCATION:1548 3rd St FOLKSTON\, GA 31537
SUMMARY:Law Enforcement Training
CLASS:PUBLIC
DESCRIPTION:6 Free P.O.S.T. Training Hours\n\nTopics: Mandated Family Viole
 nce Response\, Physical Aggressor Identification\, Family Violence Dynamic
 s\, Local Victim ServicesAudience: Law Enforcement Officers\, Probation Of
 ficers\, Prosecutors\, Judges\, Domestic Violence Advocates\, DFCS  Spons
 ored by the Charlton County Sheriff’s Office & the Georgia Commission on
  Family ViolenceRegister by May 15: http://tinyurl.com/charlton2017  Call
  404-657-3412 for more information 
DTSTAMP:20211009T064628Z
END:VEVENT
END:VCALENDAR