BEGIN:VCALENDAR
VERSION:2.0
PRODID:gcfv.georgia.gov
X-WR-TIMEZONE:America/New_York
BEGIN:VTIMEZONE
TZID:America/New_York
X-LIC-LOCATION:America/New_York
END:VTIMEZONE
BEGIN:VEVENT
UID:615b353263b52
DTSTART;TZID=UTC:20160624T130000
SEQUENCE:0
TRANSP:OPAQUE
DTEND;TZID=UTC:20160624T160000
URL:https://gcfv.georgia.gov/events/2016-06-24/quarterly-commission-meeting
LOCATION:395 Pryor Street\, SW\, Suite 1132-1133 ATLANTA\, GA 30312
SUMMARY:Quarterly Commission Meeting 
CLASS:PUBLIC
DESCRIPTION:Check back for complete details or contact GCFV at 404-657-3412
 .
DTSTAMP:20211004T130906Z
END:VEVENT
END:VCALENDAR